BEGIN:VCALENDAR
VERSION:2.0
PRODID:icalendar-ruby
CALSCALE:GREGORIAN
METHOD:PUBLISH
BEGIN:VEVENT
DTSTAMP:20260420T042359Z
UID:12-512432@fbcirondale.com
DTSTART:20261011T154500Z
DTEND:20261011T164500Z
CLASS:PUBLIC
CREATED:20260419T222823
DESCRIPTION:SUNDAY MORNING SERVICE
LAST-MODIFIED:20260419T222823
LOCATION:
SUMMARY:SUNDAY MORNING SERVICE
URL;VALUE=URI:https://www.fbcirondale.com/events/sunday-morning-service/202
 6-10-11
ATTACH;FILENAME=zfHq.jpg;FMTTYPE=image/jpeg:https://dq5pwpg1q8ru0.cloudfron
 t.net/2025/01/12/16/40/16/4d0d101e-6e1f-44d4-b028-ecdf02bdb265/zfHq.jpg
END:VEVENT
END:VCALENDAR
